Workbook

Sheet Budget Instructions
A1: Annex A.2: Budget Application Form
A3: Instructions on developing your application budget: Input proposed budget expenses in USD under the appropriate category by detailing the unit cost, quantity and frequency. Any proposed in-kind or cash co-contributions should be included in your proposed budget. You are not required to submit supporting documentation when you submit your full application and budget. If your application is selected for funding, ACP4Climate will ask you to submit supporting documentation for review prior to issuance of a grant agreement. The grant amount will be based on the final budget as approved by ACP4Climate.
A4: Category | C4: Guidance on budgeting and notes | G4: Relevant supporting documentation
A5: Personnel/Labour | C5: All personnel listed in the Staffing Plan should be included in the budget
A6: Project staff | C6: Indicate the staff name and position title. Indicate positions to be recruited with "TBD". Specify the montly rate in the Unit Cost column, percentage of time to be devoted to the project in the Quantity column, and number of months for each position. Compensation paid for employees engaged in grant activities must be consistent with that paid for similar work within the applicant organisation in accordance with the organisation's personnel policies. Overtime costs will not be approved. Please ensure that the salary/rates listed are consistent with what the individual has been paid, within your organisation's salary bands, and/or are supported by market rates. Staff salaries will be verified by ACP4Climate prior to execution of a grant agreement if your application is successful. You will be requested to submit supporting documentations to justify the proposed costs. See Relevant Supporting Documentation column for reference. Budget notes: Provide an explanation of position, justification of LOE and/or months and main responsibilites. | G6: Current or previous employment/consultant agreement, pay slips, CVs, Personnel Manual
A7: Fringe benefits | C7: Indicate any benefits provided to staff. The calculation should be based on the level of effort and the number of months the staff will be working on the project. You may use the Fringe Benefit calculation if your organisation have multiple benfits for the employees. Fringe benefit rates should be supported by your organisations policies which will be verified by verified by ACP4Climate prior to execution of a grant agreement of your application is successful. If your organisation does not have a policy, it may be recommended that you develop one. Budget notes: The narrative should include a detailed breakdown comprised of all items of fringe benefits and the costs of each, expressed in local currency, and other additional information that maybe helpful in reviewing the budget.
A8: Consultants | C8: Indicate the position title and the proposed consultant's name under the Detailed Budget column. Indicate positions to be recruited with "TBD". Specify the daily rate in the Unit Cost column, number of days to be devoted to the project in the Quantity column, and number of months in the Frequency column. If you application is successful, Consultant rates will be verified by ACP4Climate prior to execution of a grant agreement.. Please ensure that the rates listed are consistent with what the individual has been paid previously and/or are supported by market rates and reference. Budget notes: Provide an explanation of position, justification of LOE and/or months and main responsibilites
A9: Activity Costs | C9: Proposed activity costs should be aligned with the technical approach in your grant application.
A10: Activity Costs | C10: Indicate the name of the activity and add the cost or items associated with implementing the activity. Add rows as appropriate. For example, if you propose to conduct a training, potential expenses would include training venue, catering and refreshments, training materials, travel and transportation costs for employees and trainees, etc. For training venue, catering and materials: enter the unit cost, anticipated number and frequency. For travel and transportation, choose the most appropriate mode of transportation and budget the fuel, vehicle rental, driver fees. Per diem and accommodation costs should be based on the applicant's normal travel policies. Budget notes: Explain a brief description of the activity and the anticipated expenses. Indicate the purpose of the trip, origin and destination. | G10: Proforma invoice, quotations, receipts of previous purchase with specifications, Travel policy
A11: Project Administrative Costs | C11: All proposed administrative costs should be included in your budget.
C12: Administive costs must be reasonable, necessary, attributable to the funded project/program and should not exceeed 10% of the total project budget. All proposed adminsitartion costs should be clearly itemised in your proposed budget.

Sheet SUMMARY
A2: ACP4Climate Grants Program
A3: Applicant:
A4: Activity Title:
A5: Period of Performance:
A6: Date Submitted:
A10: SUMMARY BUDGET
A11: Category | B11: Total USD
A12: Personnel Costs | B12: ='Detail Budget_Example'!F17 -> 21530.091
A13: Activity Costs | B13: ='Detail Budget_Example'!F36 -> 5545
A14: Project Administrative Costs | B14: ='Detail Budget_Example'!F42 -> 0
A15: TOTAL | B15: =SUM(B12:B14) -> 27075.091

Sheet DETAIL
A2: DETAILED BUDGET | B2: Project contribution | F2: Grantee contribution | G2: Leverage funding | H2: OVERALL | I2: Budget notes
A3: CATEGORY | B3: UNIT COST | C3: QTY | D3: FREQ. | E3: TOTAL | F3: TOTAL | G3: TOTAL | H3: TOTAL
A4: Personnel / Labor | B4: Monthly salary | C4: % Time | D4: # Months
A5: Project staff | E5: =B5*C5*D5 -> 0
E6: =B6*C6*D6 -> 0
E7: =B7*C7*D7 -> 0
E8: =B8*C8*D8 -> 0
A9: Fringe Benefits | E9: =B9*C9*D9 -> 0
E10: =B10*C10*D10 -> 0
E11: =B11*C11*D11 -> 0
A12: Consultants | E12: =B12*C12*D12 -> 0
E13: =B13*C13*D13 -> 0
E14: =B14*C14*D14 -> 0
A15: Sub total | B15: 500 | E15: =SUM(E5:E14) -> 0 | F15: =SUM(F5:F14) -> 0 | G15: =SUM(G5:G14) -> 0 | H15: =SUM(H5:H14) -> 0
A16: Equipment (non-expendable and more than US$5,000)
E17: =B17*C17*D17 -> 0
E18: =B18*C18*D18 -> 0
E19: =B19*C19*D19 -> 0
E20: =B20*C20*D20 -> 0
E21: =B21*C21*D21 -> 0
E22: =B22*C22*D22 -> 0
E23: =B23*C23*D23 -> 0
E24: =B24*C24*D24 -> 0
E25: =B25*C25*D25 -> 0
E26: =B26*C26*D26 -> 0
A27: Sub total | B27: 500 | E27: =SUM(E17:E26) -> 0 | F27: =SUM(F17:F26) -> 0 | G27: =SUM(G17:G26) -> 0 | H27: =SUM(H17:H26) -> 0
A28: Materials and Supplies (expendable and less than $5,000)
E29: =B29*C29*D29 -> 0
E30: =B30*C30*D30 -> 0
E31: =B31*C31*D31 -> 0
E32: =B32*C32*D32 -> 0
E33: =B33*C33*D33 -> 0
E34: =B34*C34*D34 -> 0
E35: =B35*C35*D35 -> 0
E36: =B36*C36*D36 -> 0
A37: Sub total | B37: 500 | E37: =SUM(E29:E36) -> 0 | F37: =SUM(F29:F36) -> 0 | G37: =SUM(G29:G36) -> 0 | H37: =SUM(H29:H36) -> 0
A38: Other Direct Cost
A39: Activity costs
A40: Activity 1.1 | E40: =B40*C40*D40 -> 0
A41: Insert budget lines related to activity | E41: =B41*C41*D41 -> 0
...

Sheet Detail Budget_Example
A1: DETAILED BUDGET | B1: Project contribution | F1: OVERALL | G1: Budget notes | H1: Supporting Documents Required
A2: CATEGORY | B2: UNIT COST | C2: QTY | D2: FREQ. | E2: TOTAL | F2: TOTAL
A3: Personnel Costs | B3: Monthly salary | C3: % Time | D3: # Months | H3: Staff contract and payslip
A4: Project staff
A5: Executive Director (Selena Gomez) | B5: ='Fringe Benefit_Example'!B4 -> 1000 | C5: 0.1 | D5: 12 | E5: =B5*C5*D5 -> 1200 | F5: =E5 -> 1200 | G5: Selena Gomez is the current Director for Reach for the Stars Foundation. She will be working part-time with an LOE of 10%. She will oversee the activity implementation and report to the Project team. The remaning LOE will be charged to donor A at 50% and donor B at 40%.
A6: Project Manager (Meredith Grey) | B6: ='Fringe Benefit_Example'!B5 -> 800 | C6: 1 | D6: 12 | E6: =B6*C6*D6 -> 9600 | F6: =E6 -> 9600 | G6: Meredith Grey will work on the project full time. She will lead the implementation of the activities and manage the coordination of the target beneficiasries.
A7: Finance Assistant (TBD) | B7: ='Fringe Benefit_Example'!B6 -> 500 | C7: 0.5 | D7: 12 | E7: =B7*C7*D7 -> 3000 | F7: =E7 -> 3000 | G7: The Finance Assistant will be hired once the grant is approved. He/She will monitor the financial spending and submit request for procurement. This position will work for this project at 50% and another 50% will be charged to donor A.
A9: Fringe Benefits | H9: Personnel policy
A10: Bonus | B10: ='Fringe Benefit_Example'!D16 -> 95.833333 | C10: 1 | D10: 12 | E10: =B10*C10*D10 -> 1150 | F10: =E10 -> 1150 | G10: Following the organisation personnel policy, each member is entitle for a bonus equivalent to one month salary per year.
A11: Seniority | B11: ='Fringe Benefit_Example'!E16 -> 65.340909 | C11: 1 | D11: 12 | E11: =B11*C11*D11 -> 784.09091 | F11: =E11 -> 784.09091 | G11: The government requires all organizations/ employers to pay seniority for staff. This seniority payment will be released 2 times per year (7.5 days in June and 7.5 days in December), based on the calculation (pro day salary six months /22 days x 7.5 days).
A12: NSSF | B12: ='Fringe Benefit_Example'!F16 -> 33 | C12: 1 | D12: 12 | E12: =B12*C12*D12 -> 396 | F12: =E12 -> 396 | G12: The organisation will apply for Accident and Health Insurance with the National Social Security Fund (NSSF) for each member of staff. The total costs approximately at $11 per month per staff.
A14: Consultants
A15: Capacity Development Expert (Jennie Soo) | B15: 150 | C15: 3 | D15: 12 | E15: =B15*C15*D15 -> 5400 | F15: =E15 -> 5400 | G15: A Capacity Development expert will be engaged to assist on Activity 1.2 and 2.1. She will coordinate with the Project Manager and beneficiaries every month. She will also design a capacity development plan based on the results of the survey that will be conducted. It is anticipated that she will be working 3 days per month for 12 months | H15: Please attach the consult agreement if applicable or ToR
A17: Sub total - Personnel Costs | E17: =SUM(E4:E16) -> 21530.091 | F17: =SUM(F4:F16) -> 21530.091
A18: Activity Costs | H18: Quotation or past receipts
A19: Activity 1.1: Conduct pre-meeting with stakeholders | E19: =B19*C19*D19 -> 0 | G19: The project will conduct one pre-meeting with 10 stakholders at BTB province to garther initial information regarding the survey. This meeting will be half day.
A20: Car rental | B20: 75 | C20: 2 | D20: 1 | E20: =B20*C20*D20 -> 150 | F20: =E20 -> 150 | G20: 1 car will be rented for staff traveling from PNP to join this activity in BTB. Budgeted $75/day x 2 days x 1 trip
A21: Snacks | B21: 1 | C21: 10 | D21: 2 | E21: =B21*C21*D21 -> 20 | F21: =E21 -> 20 | G21: The team will provide light snacks and refreshments to the 10 participants. The refereshment rate is $1 per time following the organization policy. Budgeted $1 x 10 pp x 2 times x 1 meeting
A22: Sub total (Act 1.1) | E22: =SUM(E20:E21) -> 170 | F22: =SUM(F20:F21) -> 170
A24: Activity 1.2 Carry out survey | E24: =B24*C24*D24 -> 0 | G24: The data collection will be conducted with 10 communities in Mong District. It takes about 3 days for field work.
A25: Car rental | B25: 75 | C25: 5 | D25: 1 | E25: =B25*C25*D25 -> 375 | F25: =E25 -> 375 | G25: 1 car will be rented for the Project Manager and two consultants for 5 days when they visit the 3 communities in Mong District, BTB. Budgeted $75/day x 5 days x 1 trip
A26: Accommodation for staff | B26: 20 | C26: 3 | D26: 5 | E26: =B26*C26*D26 -> 300 | F26: =E26 -> 300 | G26: Based on the travel policy, accommodation rate for staff is $20 for staff traveling for a project. Budgeted $20 x 3 staff x 4 nights
A27: Per diem for staff | B27: 20 | C27: 3 | D27: 5 | E27: =B27*C27*D27 -> 300 | F27: =E27 -> 300 | G27: Per diem rate is $20 for staff traveling for cross provinces. Budgeted $20 x 3 staff x 5 days
A28: Sub total (Act 1.2) | E28: =SUM(E25:E27) -> 975 | F28: =SUM(F25:F27) -> 975
A30: Activity 2.1 Results presentation | E30: =B30*C30*D30 -> 0 | G30: Two 2-day result presentation workshops will be conduncted at provincial level in BTB and Kampong Thom with 20 participants each.
A31: Venue package | B31: 20 | C31: 20 | D31: =2*2 -> 4 | E31: =B31*C31*D31 -> 1600 | F31: =E31 -> 1600 | G31: Venue package includes meeting hall, refreshment, lunch and sound system. Budgeted $20 x 20 pp x 2 days x 2 events
A32: Accommodation for community | B32: 20 | C32: 10 | D32: =3*2 -> 6 | E32: =B32*C32*D32 -> 1200 | F32: =E32 -> 1200 | G32: Following travel policy for community, accommodation rate is $20. The communities will travel from their villages to the provincial town. Budgeted $20 x 10 pp x 3 nights x 2 events
A33: Per diem for community | B33: 15 | C33: 10 | D33: =4*2 -> 8 | E33: =B33*C33*D33 -> 1200 | F33: =E33 -> 1200 | G33: Per diem rate for community is $20. As lunch is provided, 25% is deducted. Budgeted $15 x 10 pp x 4 days x 2 events
A34: Transportation for community | B34: 20 | C34: 10 | D34: 2 | E34: =B34*C34*D34 -> 400 | F34: =E34 -> 400 | G34: The distance rate based payment for transportation to the communities will be applied. Budgeted $20 (round trip) x 10 pp x 2 events
A35: Sub total (Act 2.1) | E35: =SUM(E31:E34) -> 4400 | F35: =SUM(F31:F34) -> 4400
A36: Sub total - Activity Costs | F36: =F22+F28+F35 -> 5545
A37: Project Administrative Costs
A42: Sub-total Administrative Costs | E42: =SUM(E38:E41) -> 0 | F42: =SUM(F38:F41) -> 0
A43: TOTAL BUDGET | E43: =E17+E36 -> 21530.091 | F43: =F17+F36+F42 -> 27075.091

Sheet Fringe Benefit_Example
A1: Personnel | B1: Project Duration
B2: Fringe Benefits/Month
B3: Monthly Salary | C3: LOE | D3: 13th Month/Bonus | E3: Seniority | F3: NSSF
A4: Staff 1 | B4: 1000 | C4: 0.1 | D4: =B4/12*C4 -> 8.3333333 | E4: =B4/22*7.5/6*C4 -> 5.6818182 | F4: 11
A5: Staff 2 | B5: 800 | C5: 1 | D5: =B5/12*C5 -> 66.666667 | E5: =B5/22*7.5/6*C5 -> 45.454545 | F5: 11
A6: Staff 3 | B6: 500 | C6: 0.5 | D6: =B6/12*C6 -> 20.833333 | E6: =B6/22*7.5/6*C6 -> 14.204545 | F6: 11
B16: TOTAL | D16: =SUM(D4:D15) -> 95.833333 | E16: =SUM(E4:E15) -> 65.340909 | F16: =SUM(F4:F15) -> 33

Sheet Exchange rate - guide
A3: INCLUDE A SCREEN SHOT OF THE EXCHANGE RATE USED SHOWING THE DATE IT WAS GENERATED
